BEGIN:VCALENDAR
VERSION:2.0
PRODID:-//Northeast Ohio College Prep - ECPv5.16.4//NONSGML v1.0//EN
CALSCALE:GREGORIAN
METHOD:PUBLISH
X-WR-CALNAME:Northeast Ohio College Prep
X-ORIGINAL-URL:https://neocollegeprep.org
X-WR-CALDESC:Events for Northeast Ohio College Prep
BEGIN:VTIMEZONE
TZID:America/New_York
BEGIN:DAYLIGHT
TZOFFSETFROM:-0500
TZOFFSETTO:-0400
TZNAME:EDT
DTSTART:20170312T070000
END:DAYLIGHT
BEGIN:STANDARD
TZOFFSETFROM:-0400
TZOFFSETTO:-0500
TZNAME:EST
DTSTART:20171105T060000
END:STANDARD
BEGIN:DAYLIGHT
TZOFFSETFROM:-0500
TZOFFSETTO:-0400
TZNAME:EDT
DTSTART:20180311T070000
END:DAYLIGHT
BEGIN:STANDARD
TZOFFSETFROM:-0400
TZOFFSETTO:-0500
TZNAME:EST
DTSTART:20181104T060000
END:STANDARD
END:VTIMEZONE
BEGIN:VEVENT
DTSTART;VALUE=DATE:20171222
DTEND;VALUE=DATE:20180106
DTSTAMP:20260425T152646
CREATED:20171213T145604Z
LAST-MODIFIED:20171213T145604Z
UID:1348-1513900800-1515196799@neocollegeprep.org
SUMMARY:Winter Break - No School for Scholars
DESCRIPTION:
URL:https://neocollegeprep.org/event/winter-break-no-school-scholars/
LOCATION:NEO High School Campus\, 2357 Tremont Avenue\, Cleveland\, OH\, 44113\, United States
CATEGORIES:Calendar Only,Prospective Families, Events, Home
GEO:41.480326;-81.687007
X-APPLE-STRUCTURED-LOCATION;VALUE=URI;X-ADDRESS=NEO High School Campus 2357 Tremont Avenue Cleveland OH 44113 United States;X-APPLE-RADIUS=500;X-TITLE=2357 Tremont Avenue:geo:-81.687007,41.480326
END:VEVENT
END:VCALENDAR