BEGIN:VCALENDAR
VERSION:2.0
PRODID:-//Northeast Ohio College Prep - ECPv5.16.4//NONSGML v1.0//EN
CALSCALE:GREGORIAN
METHOD:PUBLISH
X-WR-CALNAME:Northeast Ohio College Prep
X-ORIGINAL-URL:https://neocollegeprep.org
X-WR-CALDESC:Events for Northeast Ohio College Prep
BEGIN:VTIMEZONE
TZID:America/New_York
BEGIN:DAYLIGHT
TZOFFSETFROM:-0500
TZOFFSETTO:-0400
TZNAME:EDT
DTSTART:20230312T070000
END:DAYLIGHT
BEGIN:STANDARD
TZOFFSETFROM:-0400
TZOFFSETTO:-0500
TZNAME:EST
DTSTART:20231105T060000
END:STANDARD
END:VTIMEZONE
BEGIN:VEVENT
DTSTART;TZID=America/New_York:20231213T103000
DTEND;TZID=America/New_York:20231213T110000
DTSTAMP:20260424T163353
CREATED:20231115T191016Z
LAST-MODIFIED:20231115T191016Z
UID:12422-1702463400-1702465200@neocollegeprep.org
SUMMARY:Virtual Storytime Aboard The Polar Express
DESCRIPTION:Circle round for a festive read aloud of The Polar Express! Children from 3-5 years old are welcome to join in the fun with their parent or caretaker. \nEnjoy a character visit by Santa\, storytime\, crafting together\, learn about our EK & Kindergarten programs\, and preview our easy registration process! \nThis event takes place on Zoom. Prior to the event\, you will receive log-in details along with the free downloadable craft project. \nRSVP Today: neocollegeprep.org/events
URL:https://neocollegeprep.org/event/virtual-storytime-aboard-polar-express/
LOCATION:Virtual
CATEGORIES:Calendar Only,Prospective Families, Events, Home
END:VEVENT
END:VCALENDAR