BEGIN:VCALENDAR
VERSION:2.0
PRODID:-//Northeast Ohio College Prep - ECPv5.16.4//NONSGML v1.0//EN
CALSCALE:GREGORIAN
METHOD:PUBLISH
X-WR-CALNAME:Northeast Ohio College Prep
X-ORIGINAL-URL:https://neocollegeprep.org
X-WR-CALDESC:Events for Northeast Ohio College Prep
BEGIN:VTIMEZONE
TZID:America/New_York
BEGIN:DAYLIGHT
TZOFFSETFROM:-0500
TZOFFSETTO:-0400
TZNAME:EDT
DTSTART:20200308T070000
END:DAYLIGHT
BEGIN:STANDARD
TZOFFSETFROM:-0400
TZOFFSETTO:-0500
TZNAME:EST
DTSTART:20201101T060000
END:STANDARD
END:VTIMEZONE
BEGIN:VEVENT
DTSTART;TZID=America/New_York:20201009T153000
DTEND;TZID=America/New_York:20201009T153000
DTSTAMP:20260424T200019
CREATED:20200731T160740Z
LAST-MODIFIED:20201002T184033Z
UID:5566-1602257400-1602257400@neocollegeprep.org
SUMMARY:Virtual Board Meeting
DESCRIPTION:Pursuant to ORC 3301.0729\, there is a limit to the amount of time in which schools may engage in test preparation for students; approximately 2% of total instructional hours\, with some exceptions. \nThe school wishes to apply for a waiver in order to provide assistance to the students who need the additional testing preparation time. \nThe Board shall hold a Public Hearing on the application for the waiver\, and invites the public to provide commentary and/or opinion. \nThe Public Hearing is scheduled during the regular meeting of the Board on: \nFriday\, October 9\, 2020 at 3:30 p.m.  \n  \nMeeting Information: \nhttps://us02web.zoom.us/j/3121512398\nMeeting ID: 312 151 2398\n \nPhone Option: 1-312-626-6799\nMeeting ID: 3121512398#
URL:https://neocollegeprep.org/event/virtual-board-meeting-3/
LOCATION:Virtual
CATEGORIES:Calendar Only,School Board
END:VEVENT
END:VCALENDAR