BEGIN:VCALENDAR
VERSION:2.0
PRODID:-//Northeast Ohio College Prep - ECPv5.16.4//NONSGML v1.0//EN
CALSCALE:GREGORIAN
METHOD:PUBLISH
X-WR-CALNAME:Northeast Ohio College Prep
X-ORIGINAL-URL:https://neocollegeprep.org
X-WR-CALDESC:Events for Northeast Ohio College Prep
BEGIN:VTIMEZONE
TZID:America/New_York
BEGIN:DAYLIGHT
TZOFFSETFROM:-0500
TZOFFSETTO:-0400
TZNAME:EDT
DTSTART:20220313T070000
END:DAYLIGHT
BEGIN:STANDARD
TZOFFSETFROM:-0400
TZOFFSETTO:-0500
TZNAME:EST
DTSTART:20221106T060000
END:STANDARD
END:VTIMEZONE
BEGIN:VEVENT
DTSTART;TZID=America/New_York:20221111T100000
DTEND;TZID=America/New_York:20221111T103000
DTSTAMP:20260424T182828
CREATED:20221010T173119Z
LAST-MODIFIED:20221010T173119Z
UID:10101-1668160800-1668162600@neocollegeprep.org
SUMMARY:Turkey Goes to School Virtual Story & Craft
DESCRIPTION:Join us for a virtual Story and Craft featuring the fall favorite\, “Turkey Goes to School.” Kids from 3-5 years old are welcome to join in the fun with a book reading from our staff and a follow-along craft. We look forward to seeing you online! Participants will receive a printable craft project by email in advance. \nRSVP Today! neocollegeprep.org/events \nReady to enroll? Be prepared with the following documents:  \n\nChild’s Birth Certificate \nProof of Residence \nParent ID (for primary\, custodial parent)\n Immunization Records \n\nFor more information about these documents\, please visit our Enrollment Resources page at: https://accelschools.com/enrollment-resources-ohio/
URL:https://neocollegeprep.org/event/turkey-goes-school-virtual-story-craft/
LOCATION:Virtual
CATEGORIES:Calendar Only
END:VEVENT
END:VCALENDAR