BEGIN:VCALENDAR
VERSION:2.0
PRODID:-//Northeast Ohio College Prep - ECPv5.16.4//NONSGML v1.0//EN
CALSCALE:GREGORIAN
METHOD:PUBLISH
X-WR-CALNAME:Northeast Ohio College Prep
X-ORIGINAL-URL:https://neocollegeprep.org
X-WR-CALDESC:Events for Northeast Ohio College Prep
BEGIN:VTIMEZONE
TZID:America/New_York
BEGIN:DAYLIGHT
TZOFFSETFROM:-0500
TZOFFSETTO:-0400
TZNAME:EDT
DTSTART:20220313T070000
END:DAYLIGHT
BEGIN:STANDARD
TZOFFSETFROM:-0400
TZOFFSETTO:-0500
TZNAME:EST
DTSTART:20221106T060000
END:STANDARD
END:VTIMEZONE
BEGIN:VEVENT
DTSTART;TZID=America/New_York:20220301T170000
DTEND;TZID=America/New_York:20220301T180000
DTSTAMP:20260424T200137
CREATED:20220111T172216Z
LAST-MODIFIED:20220111T172216Z
UID:8745-1646154000-1646157600@neocollegeprep.org
SUMMARY:Transportation and Taco Tuesday!
DESCRIPTION:Join NEO College Preparatory School and the Cleveland Regional Transportation Authority (RTA) for a special presentation about using the RTA to and from high school. Feed the whole family at our Walking Tacos Bar and learn how to safely and efficiently use RTA as transportation to school.  \nRSVP Today »  \nProspective families interested in enrollment may expedite the registration process by coming prepared with the following:  \n\nChild’s Birth Certificate \nProof of Residence \nParent ID (for primary\, custodial parent) \nImmunization Records \n\nFor more information about these documents\, please visit our Enrollment Resources page. 
URL:https://neocollegeprep.org/event/transportation-taco-tuesday/
LOCATION:NEO High School Campus\, 2357 Tremont Avenue\, Cleveland\, OH\, 44113\, United States
CATEGORIES:Calendar Only,Prospective Families, Events, Home
GEO:41.480326;-81.687007
X-APPLE-STRUCTURED-LOCATION;VALUE=URI;X-ADDRESS=NEO High School Campus 2357 Tremont Avenue Cleveland OH 44113 United States;X-APPLE-RADIUS=500;X-TITLE=2357 Tremont Avenue:geo:-81.687007,41.480326
END:VEVENT
END:VCALENDAR