BEGIN:VCALENDAR
VERSION:2.0
PRODID:-//Northeast Ohio College Prep - ECPv5.16.4//NONSGML v1.0//EN
CALSCALE:GREGORIAN
METHOD:PUBLISH
X-WR-CALNAME:Northeast Ohio College Prep
X-ORIGINAL-URL:https://neocollegeprep.org
X-WR-CALDESC:Events for Northeast Ohio College Prep
BEGIN:VTIMEZONE
TZID:America/New_York
BEGIN:DAYLIGHT
TZOFFSETFROM:-0500
TZOFFSETTO:-0400
TZNAME:EDT
DTSTART:20200308T070000
END:DAYLIGHT
BEGIN:STANDARD
TZOFFSETFROM:-0400
TZOFFSETTO:-0500
TZNAME:EST
DTSTART:20201101T060000
END:STANDARD
END:VTIMEZONE
BEGIN:VEVENT
DTSTART;TZID=America/New_York:20200629T080000
DTEND;TZID=America/New_York:20200629T200000
DTSTAMP:20260425T103354
CREATED:20200629T194948Z
LAST-MODIFIED:20200629T195158Z
UID:4969-1593417600-1593460800@neocollegeprep.org
SUMMARY:Summer Writing & Art Contest
DESCRIPTION:This summer\, Northeast Ohio College Preparatory School is giving students an opportunity to reflect and speak out about social injustice during our Summer Writing & Art Contest. \nWe invite new & returning students in Grades 6-12 to submit an artwork\, writing piece\, narrative\, spoken word/speech\, video\, or original song to participate. \nTopics may include Black Lives Matter\, George Floyd\, current protests\, personal experiences\, your role in creating a better future and/or anything else pertaining to the theme of social injustice. \nAll submissions can be sent via email to hmueller@neocollegeprep.org or vgiles-weeks@neocollegeprep.org. Submissions can also be sent via USPS to: NEO College Preparatory School\, 2280 Professor Ave. Cleveland OH\, 44113. \nThe deadline to submit your work is July 24\, 2020. Two winners will receive $25 VISA gift cards\, NEO t-shirt\, and be featured on our website and social media pages!
URL:https://neocollegeprep.org/event/summer-writing-art-contest/2020-06-29/
CATEGORIES:Calendar Only,Prospective Families, Events, Home
END:VEVENT
END:VCALENDAR