BEGIN:VCALENDAR
VERSION:2.0
PRODID:-//Northeast Ohio College Prep - ECPv5.16.4//NONSGML v1.0//EN
CALSCALE:GREGORIAN
METHOD:PUBLISH
X-WR-CALNAME:Northeast Ohio College Prep
X-ORIGINAL-URL:https://neocollegeprep.org
X-WR-CALDESC:Events for Northeast Ohio College Prep
BEGIN:VTIMEZONE
TZID:America/New_York
BEGIN:DAYLIGHT
TZOFFSETFROM:-0500
TZOFFSETTO:-0400
TZNAME:EDT
DTSTART:20240310T070000
END:DAYLIGHT
BEGIN:STANDARD
TZOFFSETFROM:-0400
TZOFFSETTO:-0500
TZNAME:EST
DTSTART:20241103T060000
END:STANDARD
END:VTIMEZONE
BEGIN:VEVENT
DTSTART;TZID=America/New_York:20240725T090000
DTEND;TZID=America/New_York:20240725T120000
DTSTAMP:20260424T145126
CREATED:20240621T180936Z
LAST-MODIFIED:20240621T180936Z
UID:13574-1721898000-1721908800@neocollegeprep.org
SUMMARY:Summer Olympics Camp
DESCRIPTION:Leap\, sprint & dive into fun at Summer Olympics Camp! Kids & teens will have the opportunity to train & go for the gold in a number of sport and gaming events. Family and friends are invited to cheer on campers at our end-of-camp medal ceremony. Space is limited and awarded on a first come\, first serve basis–sign up today!  \nRSVP: neocollegeprep.org/summer
URL:https://neocollegeprep.org/event/summer-olympics-camp/2024-07-25/
LOCATION:NEO Lower Campus\, 2280 Professor Ave\, Cleveland\, OH\, 44113\, United States
CATEGORIES:Calendar Only,Prospective Families, Events, Home
END:VEVENT
END:VCALENDAR