BEGIN:VCALENDAR
VERSION:2.0
PRODID:-//Northeast Ohio College Prep - ECPv5.16.4//NONSGML v1.0//EN
CALSCALE:GREGORIAN
METHOD:PUBLISH
X-WR-CALNAME:Northeast Ohio College Prep
X-ORIGINAL-URL:https://neocollegeprep.org
X-WR-CALDESC:Events for Northeast Ohio College Prep
BEGIN:VTIMEZONE
TZID:America/New_York
BEGIN:DAYLIGHT
TZOFFSETFROM:-0500
TZOFFSETTO:-0400
TZNAME:EDT
DTSTART:20200308T070000
END:DAYLIGHT
BEGIN:STANDARD
TZOFFSETFROM:-0400
TZOFFSETTO:-0500
TZNAME:EST
DTSTART:20201101T060000
END:STANDARD
END:VTIMEZONE
BEGIN:VEVENT
DTSTART;TZID=America/New_York:20200629T100000
DTEND;TZID=America/New_York:20200629T130000
DTSTAMP:20260425T084500
CREATED:20200622T211044Z
LAST-MODIFIED:20200622T211044Z
UID:4822-1593424800-1593435600@neocollegeprep.org
SUMMARY:Summer Conditioning Camp
DESCRIPTION:Join us at Northeast Ohio College Preparatory School for a Summer Conditioning Camp! Students in grades 7-12 can workout and stretch with Dean Latimore and Dean Martin. CDC guidelines will be followed and social distancing will be used to create a safe and fun event for everyone! This event is free & open to prospective students as well as returning students. \nDrinks and masks will be provided. Register here \nSpecial Note for returning NEO students: In order to participate you must bring a friend who has not decided on their high school for the 20-21 year. \nGirls: 10-11 AM \nBoys: 12-1 PM \nFamilies choose NEO because: \n• Tuition-free\, community school on neighboring campuses open to all K-12 students \n• Full-day Kindergarten (must turn 5 years old by Oct. 1) \n• B-Rated by the Ohio Department of Education because students are beating the odds and meeting performance expectations (Gap Closing\, K-3 Literacy\, Graduation) \n• Rigorous\, college prep curriculum with individualized Education Technology to advance learning & readiness \n• Extracurricular & athletic programs \n• Full-time Guidance Counselor to assist HS students with scheduling classes including the College Credit Plus Program\, ACT Prep Courses & Online Elective Course Options \n• 100% senior class graduation rate \n• Graduates have earned over $6 million in scholarships \n• Free meals & bus transportation \n• Accredited by Cognia™
URL:https://neocollegeprep.org/event/summer-conditioning-camp/
LOCATION:NEO High School Campus\, 2357 Tremont Avenue\, Cleveland\, OH\, 44113\, United States
CATEGORIES:Calendar Only,Prospective Families, Events, Home
GEO:41.480326;-81.687007
X-APPLE-STRUCTURED-LOCATION;VALUE=URI;X-ADDRESS=NEO High School Campus 2357 Tremont Avenue Cleveland OH 44113 United States;X-APPLE-RADIUS=500;X-TITLE=2357 Tremont Avenue:geo:-81.687007,41.480326
END:VEVENT
END:VCALENDAR