BEGIN:VCALENDAR
VERSION:2.0
PRODID:-//Northeast Ohio College Prep - ECPv5.16.4//NONSGML v1.0//EN
CALSCALE:GREGORIAN
METHOD:PUBLISH
X-WR-CALNAME:Northeast Ohio College Prep
X-ORIGINAL-URL:https://neocollegeprep.org
X-WR-CALDESC:Events for Northeast Ohio College Prep
BEGIN:VTIMEZONE
TZID:America/New_York
BEGIN:DAYLIGHT
TZOFFSETFROM:-0500
TZOFFSETTO:-0400
TZNAME:EDT
DTSTART:20170312T070000
END:DAYLIGHT
BEGIN:STANDARD
TZOFFSETFROM:-0400
TZOFFSETTO:-0500
TZNAME:EST
DTSTART:20171105T060000
END:STANDARD
END:VTIMEZONE
BEGIN:VEVENT
DTSTART;TZID=America/New_York:20170724T110000
DTEND;TZID=America/New_York:20170724T160000
DTSTAMP:20260424T162749
CREATED:20170712T195601Z
LAST-MODIFIED:20170712T195601Z
UID:1150-1500894000-1500912000@neocollegeprep.org
SUMMARY:Summer "Beat the Heat" Community BBQ
DESCRIPTION:Join us for plenty of food\, fun activities\, face painting\, mobile game stations\, water activities\, and open enrollment for Kindergarten through High School scholars and families!  There will be giveaways for freshman and sophomore attendees as well as raffles for all families who bring a guest.  Bring a swimsuit and towel – you won’t want to muss this summer blast!
URL:https://neocollegeprep.org/event/summer-beat-heat-community-bbq/
CATEGORIES:Calendar Only,Prospective Families, Events, Home
END:VEVENT
END:VCALENDAR