BEGIN:VCALENDAR
VERSION:2.0
PRODID:-//Northeast Ohio College Prep - ECPv5.16.4//NONSGML v1.0//EN
CALSCALE:GREGORIAN
METHOD:PUBLISH
X-WR-CALNAME:Northeast Ohio College Prep
X-ORIGINAL-URL:https://neocollegeprep.org
X-WR-CALDESC:Events for Northeast Ohio College Prep
BEGIN:VTIMEZONE
TZID:America/New_York
BEGIN:DAYLIGHT
TZOFFSETFROM:-0500
TZOFFSETTO:-0400
TZNAME:EDT
DTSTART:20220313T070000
END:DAYLIGHT
BEGIN:STANDARD
TZOFFSETFROM:-0400
TZOFFSETTO:-0500
TZNAME:EST
DTSTART:20221106T060000
END:STANDARD
END:VTIMEZONE
BEGIN:VEVENT
DTSTART;TZID=America/New_York:20220720T090000
DTEND;TZID=America/New_York:20220720T120000
DTSTAMP:20260424T200356
CREATED:20220706T115813Z
LAST-MODIFIED:20220706T115813Z
UID:9434-1658307600-1658318400@neocollegeprep.org
SUMMARY:Skills & Drills Basketball Camp (Grades 8-12)
DESCRIPTION:Free & open to the community*\, kids entering Grades 8-12 are invited to register for Skills & Drills Basketball Camp at Northeast Ohio College Preparatory School! Sign up to learn and improve skills like ball handling\, shooting\, rebounding & defense. Participate in drills to improve speed and agility on the court.  \nEnjoy scrimmages\, free lunch & refreshments each day\, and receive a participation award at the end of camp. \n*Enrollment at NEO is not required to register for free summer camp \nRegister HERE for Skills & Drills Basketball Camp by 7/19!
URL:https://neocollegeprep.org/event/skills-drills-basketball-camp-grades-8-12/2022-07-20/
LOCATION:NEO High School Campus\, 2357 Tremont Avenue\, Cleveland\, OH\, 44113\, United States
CATEGORIES:Calendar Only,Prospective Families, Events, Home
GEO:41.480326;-81.687007
X-APPLE-STRUCTURED-LOCATION;VALUE=URI;X-ADDRESS=NEO High School Campus 2357 Tremont Avenue Cleveland OH 44113 United States;X-APPLE-RADIUS=500;X-TITLE=2357 Tremont Avenue:geo:-81.687007,41.480326
END:VEVENT
END:VCALENDAR