BEGIN:VCALENDAR
VERSION:2.0
PRODID:-//Northeast Ohio College Prep - ECPv5.16.4//NONSGML v1.0//EN
CALSCALE:GREGORIAN
METHOD:PUBLISH
X-WR-CALNAME:Northeast Ohio College Prep
X-ORIGINAL-URL:https://neocollegeprep.org
X-WR-CALDESC:Events for Northeast Ohio College Prep
BEGIN:VTIMEZONE
TZID:America/New_York
BEGIN:DAYLIGHT
TZOFFSETFROM:-0500
TZOFFSETTO:-0400
TZNAME:EDT
DTSTART:20210314T070000
END:DAYLIGHT
BEGIN:STANDARD
TZOFFSETFROM:-0400
TZOFFSETTO:-0500
TZNAME:EST
DTSTART:20211107T060000
END:STANDARD
END:VTIMEZONE
BEGIN:VEVENT
DTSTART;TZID=America/New_York:20210515T160000
DTEND;TZID=America/New_York:20210515T190000
DTSTAMP:20260424T200004
CREATED:20210506T190754Z
LAST-MODIFIED:20210506T190854Z
UID:7239-1621094400-1621105200@neocollegeprep.org
SUMMARY:Senior Prom
DESCRIPTION:This event will take place Saturday\, May\, 15th from 4:00pm-7:00pm. Due to unpredictable weather it has been decided by our prom committee to change the location from Edgewater Park to our actual school located at 2357 Tremont Avenue. \nDue to the restriction of COVID-19 and our usual safeguards\, students need to present the following before admitted to the prom venue: \n\nA completed guest application\, 20 years of age and under and a copy of their guest’s ID\nALL STUDENTS must wear a mask and bring a signed and completed Waiver.\nPlease note\, no student\, guest or parent will be allowed into the building without a completed Waiver Form. These forms will be sent out via US mail and email and must be returned no later than Thursday\, May 13th.\n\nWe look forward to seeing you all at the upcoming events and please contact the office if you should have any questions.
URL:https://neocollegeprep.org/event/senior-prom-2/
LOCATION:NEO High School Campus\, 2357 Tremont Avenue\, Cleveland\, OH\, 44113\, United States
CATEGORIES:Calendar Only
GEO:41.480326;-81.687007
X-APPLE-STRUCTURED-LOCATION;VALUE=URI;X-ADDRESS=NEO High School Campus 2357 Tremont Avenue Cleveland OH 44113 United States;X-APPLE-RADIUS=500;X-TITLE=2357 Tremont Avenue:geo:-81.687007,41.480326
END:VEVENT
END:VCALENDAR