BEGIN:VCALENDAR
VERSION:2.0
PRODID:-//Northeast Ohio College Prep - ECPv5.16.4//NONSGML v1.0//EN
CALSCALE:GREGORIAN
METHOD:PUBLISH
X-WR-CALNAME:Northeast Ohio College Prep
X-ORIGINAL-URL:https://neocollegeprep.org
X-WR-CALDESC:Events for Northeast Ohio College Prep
BEGIN:VTIMEZONE
TZID:America/New_York
BEGIN:DAYLIGHT
TZOFFSETFROM:-0500
TZOFFSETTO:-0400
TZNAME:EDT
DTSTART:20200308T070000
END:DAYLIGHT
BEGIN:STANDARD
TZOFFSETFROM:-0400
TZOFFSETTO:-0500
TZNAME:EST
DTSTART:20201101T060000
END:STANDARD
END:VTIMEZONE
BEGIN:VEVENT
DTSTART;TZID=America/New_York:20200403T153000
DTEND;TZID=America/New_York:20200403T153000
DTSTAMP:20260425T103408
CREATED:20190930T194625Z
LAST-MODIFIED:20190930T194625Z
UID:2514-1585927800-1585927800@neocollegeprep.org
SUMMARY:School Board Meeting
DESCRIPTION:
URL:https://neocollegeprep.org/event/school-board-meeting-27/
CATEGORIES:School Board
END:VEVENT
END:VCALENDAR