BEGIN:VCALENDAR
VERSION:2.0
PRODID:-//Northeast Ohio College Prep - ECPv5.16.4//NONSGML v1.0//EN
CALSCALE:GREGORIAN
METHOD:PUBLISH
X-WR-CALNAME:Northeast Ohio College Prep
X-ORIGINAL-URL:https://neocollegeprep.org
X-WR-CALDESC:Events for Northeast Ohio College Prep
BEGIN:VTIMEZONE
TZID:America/New_York
BEGIN:DAYLIGHT
TZOFFSETFROM:-0500
TZOFFSETTO:-0400
TZNAME:EDT
DTSTART:20220313T070000
END:DAYLIGHT
BEGIN:STANDARD
TZOFFSETFROM:-0400
TZOFFSETTO:-0500
TZNAME:EST
DTSTART:20221106T060000
END:STANDARD
END:VTIMEZONE
BEGIN:VEVENT
DTSTART;TZID=America/New_York:20220916T160000
DTEND;TZID=America/New_York:20220916T190000
DTSTAMP:20260424T214739
CREATED:20220831T171511Z
LAST-MODIFIED:20220831T172432Z
UID:9962-1663344000-1663354800@neocollegeprep.org
SUMMARY:Say Goodbye to Summer Pop-Up Shop
DESCRIPTION:Join us for our Second Annual Say Goodbye to Summer Pop-up Shop! We’re excited to host small businesses and makers for a fun day of shopping and celebrating our community. Don’t miss this chance to get to know more about our school AND shop from our amazing local businesses. \nRSVP neocollegeprep.org/events \nInterested in becoming a vendor? Contact our office at info@neocollegeprep.org \nReady to enroll? Be prepared with the following documents: \n\nChild’s Birth Certificate\n Proof of Residence\n Parent ID (for primary\, custodial parent)\n Immunization Records \n\nFor more information about these documents\, please visit our Enrollment Resources page at: https://accelschools.com/enrollment-resources-ohio/
URL:https://neocollegeprep.org/event/say-goodbye-summer-pop-shop/
LOCATION:Northeast Ohio College Preparatory School\, 2357 Tremont Ave.\, Cleveland\, OH\, 44113\, United States
CATEGORIES:Calendar Only,Prospective Families, Events, Home
END:VEVENT
END:VCALENDAR