BEGIN:VCALENDAR
VERSION:2.0
PRODID:-//Northeast Ohio College Prep - ECPv5.16.4//NONSGML v1.0//EN
CALSCALE:GREGORIAN
METHOD:PUBLISH
X-WR-CALNAME:Northeast Ohio College Prep
X-ORIGINAL-URL:https://neocollegeprep.org
X-WR-CALDESC:Events for Northeast Ohio College Prep
BEGIN:VTIMEZONE
TZID:America/New_York
BEGIN:DAYLIGHT
TZOFFSETFROM:-0500
TZOFFSETTO:-0400
TZNAME:EDT
DTSTART:20240310T070000
END:DAYLIGHT
BEGIN:STANDARD
TZOFFSETFROM:-0400
TZOFFSETTO:-0500
TZNAME:EST
DTSTART:20241103T060000
END:STANDARD
END:VTIMEZONE
BEGIN:VEVENT
DTSTART;TZID=America/New_York:20240729T100000
DTEND;TZID=America/New_York:20240729T150000
DTSTAMP:20260424T145132
CREATED:20240723T182757Z
LAST-MODIFIED:20240723T193659Z
UID:13688-1722247200-1722265200@neocollegeprep.org
SUMMARY:Radio One Family Day at the Zoo
DESCRIPTION:Look for our school at Radio One Family Day at the Cleveland Zoo! We will have information on our school\, and you can enroll on the spot with us!  \nRSVP Today! neocollegeprep.org/events
URL:https://neocollegeprep.org/event/radio-one-family-day-zoo/
LOCATION:Cleveland Zoo\, 3900 Wildlife Way\, Cleveland\, OH\, 44109\, United States
CATEGORIES:Calendar Only,Prospective Families, Events, Home
END:VEVENT
END:VCALENDAR