BEGIN:VCALENDAR
VERSION:2.0
PRODID:-//Northeast Ohio College Prep - ECPv5.16.4//NONSGML v1.0//EN
CALSCALE:GREGORIAN
METHOD:PUBLISH
X-WR-CALNAME:Northeast Ohio College Prep
X-ORIGINAL-URL:https://neocollegeprep.org
X-WR-CALDESC:Events for Northeast Ohio College Prep
BEGIN:VTIMEZONE
TZID:America/New_York
BEGIN:DAYLIGHT
TZOFFSETFROM:-0500
TZOFFSETTO:-0400
TZNAME:EDT
DTSTART:20220313T070000
END:DAYLIGHT
BEGIN:STANDARD
TZOFFSETFROM:-0400
TZOFFSETTO:-0500
TZNAME:EST
DTSTART:20221106T060000
END:STANDARD
END:VTIMEZONE
BEGIN:VEVENT
DTSTART;VALUE=DATE:20220318
DTEND;VALUE=DATE:20220319
DTSTAMP:20260424T220851
CREATED:20210528T155108Z
LAST-MODIFIED:20210528T155108Z
UID:7620-1647561600-1647647999@neocollegeprep.org
SUMMARY:Quarter 3 Ends//Teacher Records Day (School Closed for Students)
DESCRIPTION:
URL:https://neocollegeprep.org/event/quarter-3-endsteacher-records-day-school-closed-students/
CATEGORIES:Calendar Only
END:VEVENT
END:VCALENDAR