BEGIN:VCALENDAR
VERSION:2.0
PRODID:-//Northeast Ohio College Prep - ECPv5.16.4//NONSGML v1.0//EN
CALSCALE:GREGORIAN
METHOD:PUBLISH
X-WR-CALNAME:Northeast Ohio College Prep
X-ORIGINAL-URL:https://neocollegeprep.org
X-WR-CALDESC:Events for Northeast Ohio College Prep
BEGIN:VTIMEZONE
TZID:America/New_York
BEGIN:DAYLIGHT
TZOFFSETFROM:-0500
TZOFFSETTO:-0400
TZNAME:EDT
DTSTART:20210314T070000
END:DAYLIGHT
BEGIN:STANDARD
TZOFFSETFROM:-0400
TZOFFSETTO:-0500
TZNAME:EST
DTSTART:20211107T060000
END:STANDARD
END:VTIMEZONE
BEGIN:VEVENT
DTSTART;TZID=America/New_York:20210911T110000
DTEND;TZID=America/New_York:20210911T140000
DTSTAMP:20260424T233534
CREATED:20210830T184221Z
LAST-MODIFIED:20210830T184221Z
UID:8410-1631358000-1631368800@neocollegeprep.org
SUMMARY:Pancakes for Parents
DESCRIPTION:Enjoy a free pancake breakfast at Northeast Ohio College Prep! Current and prospective families are invited to this special event to get more acquainted with the NEO Knights family of teachers\, staff\, parents & students! \nRSVP Today! \nProspective families who enroll at the event will receive a FREE NEO UNIFORM! Expedite the registration process by coming prepared with the following:\nChild’s Birth Certificate\nProof of Residence\nParent ID (for primary\, custodial parent)\nImmunization Records\nFor more information about these documents\, please visit our Enrollment Resources page.
URL:https://neocollegeprep.org/event/pancakes-for-parents/
LOCATION:NEO Lower Campus\, 2280 Professor Ave\, Cleveland\, OH\, 44113\, United States
CATEGORIES:Calendar Only,Prospective Families, Events, Home
END:VEVENT
END:VCALENDAR