BEGIN:VCALENDAR
VERSION:2.0
PRODID:-//Northeast Ohio College Prep - ECPv5.16.4//NONSGML v1.0//EN
CALSCALE:GREGORIAN
METHOD:PUBLISH
X-WR-CALNAME:Northeast Ohio College Prep
X-ORIGINAL-URL:https://neocollegeprep.org
X-WR-CALDESC:Events for Northeast Ohio College Prep
BEGIN:VTIMEZONE
TZID:America/New_York
BEGIN:DAYLIGHT
TZOFFSETFROM:-0500
TZOFFSETTO:-0400
TZNAME:EDT
DTSTART:20170312T070000
END:DAYLIGHT
BEGIN:STANDARD
TZOFFSETFROM:-0400
TZOFFSETTO:-0500
TZNAME:EST
DTSTART:20171105T060000
END:STANDARD
END:VTIMEZONE
BEGIN:VEVENT
DTSTART;TZID=America/New_York:20170803T170000
DTEND;TZID=America/New_York:20170803T190000
DTSTAMP:20260424T180410
CREATED:20170712T195902Z
LAST-MODIFIED:20170718T174655Z
UID:1154-1501779600-1501786800@neocollegeprep.org
SUMMARY:Orientation Meet & Greet for Scholars & Families
DESCRIPTION:This event is vital to launching your scholar’s success for the upcoming school year!  Save the date and attend to receive important information from our Principal about the vision for our school and plans for the upcoming school year.  All parents and scholars should attend!
URL:https://neocollegeprep.org/event/orientation-meet-greet-scholars-families/
LOCATION:NEO High School Campus\, 2357 Tremont Avenue\, Cleveland\, OH\, 44113\, United States
CATEGORIES:Calendar Only,Prospective Families, Events, Home
GEO:41.480326;-81.687007
X-APPLE-STRUCTURED-LOCATION;VALUE=URI;X-ADDRESS=NEO High School Campus 2357 Tremont Avenue Cleveland OH 44113 United States;X-APPLE-RADIUS=500;X-TITLE=2357 Tremont Avenue:geo:-81.687007,41.480326
END:VEVENT
END:VCALENDAR