BEGIN:VCALENDAR
VERSION:2.0
PRODID:-//Northeast Ohio College Prep - ECPv5.16.4//NONSGML v1.0//EN
CALSCALE:GREGORIAN
METHOD:PUBLISH
X-WR-CALNAME:Northeast Ohio College Prep
X-ORIGINAL-URL:https://neocollegeprep.org
X-WR-CALDESC:Events for Northeast Ohio College Prep
BEGIN:VTIMEZONE
TZID:America/New_York
BEGIN:DAYLIGHT
TZOFFSETFROM:-0500
TZOFFSETTO:-0400
TZNAME:EDT
DTSTART:20210314T070000
END:DAYLIGHT
BEGIN:STANDARD
TZOFFSETFROM:-0400
TZOFFSETTO:-0500
TZNAME:EST
DTSTART:20211107T060000
END:STANDARD
END:VTIMEZONE
BEGIN:VEVENT
DTSTART;TZID=America/New_York:20210310T120000
DTEND;TZID=America/New_York:20210310T170000
DTSTAMP:20260424T200036
CREATED:20210126T153349Z
LAST-MODIFIED:20210202T174450Z
UID:6542-1615377600-1615395600@neocollegeprep.org
SUMMARY:NEO Knight Kindergarten Enrollment Day
DESCRIPTION:Join us on March 10 from 12:00 – 5:00 PM at Northeast Ohio College Prep to experience a real Kindergarten program! Students will get to participate in crafts and Kindergarten lessons as well as enjoy free snacks with other students. Parents can tour the school and meet the principal & teachers. This free event is open to prospective students who will be entering Kindergarten next year. Join us on campus for this socially-distanced event and bring home a FREE drawstring backpack filled with supplies to get you ready for Kindergarten! Please RSVP to sign up for a time slot to ensure social distancing.\n\n\n\nFamilies choose Northeast Ohio College Prep because:\n\n\n• Tuition-free\, community school on neighboring campuses open to all K-12 students\n\n\n• Full-day Kindergarten (must turn 5 years old by Jan. 1)\n\n\n• B-Rated by the Ohio Department of Education because students are beating the odds and meeting performance expectations (Gap Closing & K-3 Literacy)\n\n\n• Family-oriented school atmosphere\n\n\n• Rigorous\, college prep curriculum with individualized Education Technology to advance learning & readiness\n\n\n• Technology in every classroom!\n\n\n• Extracurricular & athletic programs\n\n\n• Free meals & bus transportation\n\n\n• Learners today\, Leaders tomorrow\, Knights for life!\n\n\n• Accredited by Cognia™\n\n\n\nExpedite Kindergarten Registration by coming prepared with the following:\n\n\n• Child’s Birth Certificate\n\n\n• Proof of Residence\n\n\n• Parent ID (for primary\, custodial parent)\n\n\n• Immunization Records\n\n\nFor more information about these documents\, please visit our Enrollment Resources page at: https://accelschools.com/enrollment-resources-ohio/
URL:https://neocollegeprep.org/event/open-kindergarten-shadow-day/
LOCATION:NEO Lower Campus\, 2280 Professor Ave\, Cleveland\, OH\, 44113\, United States
CATEGORIES:Calendar Only,Prospective Families, Events, Home
END:VEVENT
END:VCALENDAR