BEGIN:VCALENDAR
VERSION:2.0
PRODID:-//Northeast Ohio College Prep - ECPv5.16.4//NONSGML v1.0//EN
CALSCALE:GREGORIAN
METHOD:PUBLISH
X-WR-CALNAME:Northeast Ohio College Prep
X-ORIGINAL-URL:https://neocollegeprep.org
X-WR-CALDESC:Events for Northeast Ohio College Prep
BEGIN:VTIMEZONE
TZID:America/New_York
BEGIN:DAYLIGHT
TZOFFSETFROM:-0500
TZOFFSETTO:-0400
TZNAME:EDT
DTSTART:20210314T070000
END:DAYLIGHT
BEGIN:STANDARD
TZOFFSETFROM:-0400
TZOFFSETTO:-0500
TZNAME:EST
DTSTART:20211107T060000
END:STANDARD
END:VTIMEZONE
BEGIN:VEVENT
DTSTART;TZID=America/New_York:20210427T160000
DTEND;TZID=America/New_York:20210427T173000
DTSTAMP:20260424T200137
CREATED:20210312T154224Z
LAST-MODIFIED:20210312T154224Z
UID:6863-1619539200-1619544600@neocollegeprep.org
SUMMARY:Lei'd Back Luau Party!
DESCRIPTION:Registering for school doesn’t have to be difficult and boring–join us for an easy “lei’d back” enrollment event! Tour the school\, meet our staff\, and enjoy luau-themed giveaways and snacks with your family! \nYou can expedite enrollment by coming prepared with the following–or just stop by to get the process started and text your documents in at a later date!\nChild’s Birth Certificate\nProof of Residence Parent ID (for primary\, custodial parent)\nImmunization Records\nFor more information about these documents\, please visit our Enrollment Resources page at: https://accelschools.com/enrollment-resources-ohio/
URL:https://neocollegeprep.org/event/leid-back-luau-party/
LOCATION:NEO Lower Campus\, 2280 Professor Ave\, Cleveland\, OH\, 44113\, United States
CATEGORIES:Calendar Only,Prospective Families, Events, Home
END:VEVENT
END:VCALENDAR