BEGIN:VCALENDAR
VERSION:2.0
PRODID:-//Northeast Ohio College Prep - ECPv5.16.4//NONSGML v1.0//EN
CALSCALE:GREGORIAN
METHOD:PUBLISH
X-WR-CALNAME:Northeast Ohio College Prep
X-ORIGINAL-URL:https://neocollegeprep.org
X-WR-CALDESC:Events for Northeast Ohio College Prep
BEGIN:VTIMEZONE
TZID:America/New_York
BEGIN:DAYLIGHT
TZOFFSETFROM:-0500
TZOFFSETTO:-0400
TZNAME:EDT
DTSTART:20230312T070000
END:DAYLIGHT
BEGIN:STANDARD
TZOFFSETFROM:-0400
TZOFFSETTO:-0500
TZNAME:EST
DTSTART:20231105T060000
END:STANDARD
END:VTIMEZONE
BEGIN:VEVENT
DTSTART;VALUE=DATE:20230531
DTEND;VALUE=DATE:20230601
DTSTAMP:20260424T214413
CREATED:20220718T182443Z
LAST-MODIFIED:20220718T182443Z
UID:9623-1685491200-1685577599@neocollegeprep.org
SUMMARY:Last Day of School
DESCRIPTION:
URL:https://neocollegeprep.org/event/last-day-school/
LOCATION:Northeast Ohio College Preparatory School\, 2357 Tremont Ave.\, Cleveland\, OH\, 44113\, United States
CATEGORIES:Calendar Only
END:VEVENT
END:VCALENDAR