BEGIN:VCALENDAR
VERSION:2.0
PRODID:-//Northeast Ohio College Prep - ECPv5.16.4//NONSGML v1.0//EN
CALSCALE:GREGORIAN
METHOD:PUBLISH
X-WR-CALNAME:Northeast Ohio College Prep
X-ORIGINAL-URL:https://neocollegeprep.org
X-WR-CALDESC:Events for Northeast Ohio College Prep
BEGIN:VTIMEZONE
TZID:America/New_York
BEGIN:DAYLIGHT
TZOFFSETFROM:-0500
TZOFFSETTO:-0400
TZNAME:EDT
DTSTART:20230312T070000
END:DAYLIGHT
BEGIN:STANDARD
TZOFFSETFROM:-0400
TZOFFSETTO:-0500
TZNAME:EST
DTSTART:20231105T060000
END:STANDARD
END:VTIMEZONE
BEGIN:VEVENT
DTSTART;TZID=America/New_York:20230330T170000
DTEND;TZID=America/New_York:20230330T180000
DTSTAMP:20260424T181056
CREATED:20230313T172455Z
LAST-MODIFIED:20230313T172455Z
UID:10809-1680195600-1680199200@neocollegeprep.org
SUMMARY:Kindergarten Registration Night
DESCRIPTION:It’s time to register for Early K and Kindergarten! Join us for sports night to learn more about our school culture\, academics\, extracurricular programs\, and school services. Tour our campus\, meet our staff\, and preview our easy registration process! \nRSVP Today: neocollegeprep.org/events
URL:https://neocollegeprep.org/event/kindergarten-registration-night-3/
LOCATION:NEO Lower Campus\, 2280 Professor Ave\, Cleveland\, OH\, 44113\, United States
CATEGORIES:Calendar Only,Prospective Families, Events, Home
END:VEVENT
END:VCALENDAR