BEGIN:VCALENDAR
VERSION:2.0
PRODID:-//Northeast Ohio College Prep - ECPv5.16.4//NONSGML v1.0//EN
CALSCALE:GREGORIAN
METHOD:PUBLISH
X-WR-CALNAME:Northeast Ohio College Prep
X-ORIGINAL-URL:https://neocollegeprep.org
X-WR-CALDESC:Events for Northeast Ohio College Prep
BEGIN:VTIMEZONE
TZID:America/New_York
BEGIN:DAYLIGHT
TZOFFSETFROM:-0500
TZOFFSETTO:-0400
TZNAME:EDT
DTSTART:20200308T070000
END:DAYLIGHT
BEGIN:STANDARD
TZOFFSETFROM:-0400
TZOFFSETTO:-0500
TZNAME:EST
DTSTART:20201101T060000
END:STANDARD
END:VTIMEZONE
BEGIN:VEVENT
DTSTART;TZID=America/New_York:20200522T130000
DTEND;TZID=America/New_York:20200522T140000
DTSTAMP:20260424T195428
CREATED:20200508T180715Z
LAST-MODIFIED:20200508T181938Z
UID:4000-1590152400-1590156000@neocollegeprep.org
SUMMARY:Virtual Open House - High School
DESCRIPTION:You’re invited to our Virtual Open House at NEO High School!\nOn Friday\, May 22st you will get the opportunity to virtually experience our High School\, including\nthe chance to:\n– See what it is like in our schools\n– Talk live with our Principal\n– Hear more about our academic programs\, expectations\, extra-curricular and clubs \nRSVP at neocollegeprep.org/virtual-event today!
URL:https://neocollegeprep.org/event/high-school-virtual-open-house/
CATEGORIES:Prospective Families, Events, Home
END:VEVENT
END:VCALENDAR