BEGIN:VCALENDAR
VERSION:2.0
PRODID:-//Northeast Ohio College Prep - ECPv5.16.4//NONSGML v1.0//EN
CALSCALE:GREGORIAN
METHOD:PUBLISH
X-WR-CALNAME:Northeast Ohio College Prep
X-ORIGINAL-URL:https://neocollegeprep.org
X-WR-CALDESC:Events for Northeast Ohio College Prep
BEGIN:VTIMEZONE
TZID:America/New_York
BEGIN:DAYLIGHT
TZOFFSETFROM:-0500
TZOFFSETTO:-0400
TZNAME:EDT
DTSTART:20210314T070000
END:DAYLIGHT
BEGIN:STANDARD
TZOFFSETFROM:-0400
TZOFFSETTO:-0500
TZNAME:EST
DTSTART:20211107T060000
END:STANDARD
END:VTIMEZONE
BEGIN:VEVENT
DTSTART;TZID=America/New_York:20211208T170000
DTEND;TZID=America/New_York:20211208T180000
DTSTAMP:20260424T200137
CREATED:20211101T181901Z
LAST-MODIFIED:20211101T181901Z
UID:8556-1638982800-1638986400@neocollegeprep.org
SUMMARY:High School Virtual Open House
DESCRIPTION:Choosing the right high school is an important step towards college and career. Attend this virtual open house to meet school leaders and learn about NEO College Prep. \nSince opening in 2010\, NEO College Prep has graduated 100% of seniors and college acceptances have included Ivy League\, Big Ten\, and HBCU colleges and universities. Our graduates have additionally earned over $1 million dollars in college scholarships. \nLocated in the beautiful Tremont neighborhood\, we offer a full array of extracurricular activities\, elective courses\, college counseling services & much more. \nRSVP today to receive event details such as how to access this event online! 
URL:https://neocollegeprep.org/event/high-school-virtual-open-house-4/
LOCATION:Virtual
CATEGORIES:Calendar Only,Prospective Families, Events, Home
END:VEVENT
END:VCALENDAR