BEGIN:VCALENDAR
VERSION:2.0
PRODID:-//Northeast Ohio College Prep - ECPv5.16.4//NONSGML v1.0//EN
CALSCALE:GREGORIAN
METHOD:PUBLISH
X-WR-CALNAME:Northeast Ohio College Prep
X-ORIGINAL-URL:https://neocollegeprep.org
X-WR-CALDESC:Events for Northeast Ohio College Prep
BEGIN:VTIMEZONE
TZID:America/New_York
BEGIN:DAYLIGHT
TZOFFSETFROM:-0500
TZOFFSETTO:-0400
TZNAME:EDT
DTSTART:20200308T070000
END:DAYLIGHT
BEGIN:STANDARD
TZOFFSETFROM:-0400
TZOFFSETTO:-0500
TZNAME:EST
DTSTART:20201101T060000
END:STANDARD
END:VTIMEZONE
BEGIN:VEVENT
DTSTART;TZID=America/New_York:20200623T133000
DTEND;TZID=America/New_York:20200623T143000
DTSTAMP:20260425T103408
CREATED:20200603T163619Z
LAST-MODIFIED:20200611T190835Z
UID:4483-1592919000-1592922600@neocollegeprep.org
SUMMARY:High School Virtual Open House
DESCRIPTION:Learn more about Northeast Ohio College Preparatory School at our virtual High School Open House! Meet the principal and staff\, take an online school tour\, and learn how to register for the upcoming school year. We can’t wait to welcome you to our school! \nRSVP here to receive details in advance about how to access this live meeting. \nFamilies choose NEO because: \n• Tuition-free\, community school open to all K-12 students \n• B-Rated by the Ohio Department of Education because students are beating the odds and meeting performance expectations (Gap Closing\, Graduation\, 4-Year Graduation) \n• Rigorous\, college prep curriculum with individualized Education Technology to advance learning & readiness \n• Technology in every classroom! \n• Extracurriculars & full array of High School athletic programs \n• Full-time Guidance Counselor to assist HS students with scheduling classes including the College Credit Plus Program\, ACT Prep Courses & Online Elective Course Options \n• 100% senior class graduation rate \n• Graduates have earned over $3 million in scholarships \n• Free meals & bus transportation • Accredited by Cognia™
URL:https://neocollegeprep.org/event/high-school-virtual-open-house-3/
CATEGORIES:Calendar Only,Prospective Families, Events, Home
END:VEVENT
END:VCALENDAR