BEGIN:VCALENDAR
VERSION:2.0
PRODID:-//Northeast Ohio College Prep - ECPv5.16.4//NONSGML v1.0//EN
CALSCALE:GREGORIAN
METHOD:PUBLISH
X-WR-CALNAME:Northeast Ohio College Prep
X-ORIGINAL-URL:https://neocollegeprep.org
X-WR-CALDESC:Events for Northeast Ohio College Prep
BEGIN:VTIMEZONE
TZID:America/New_York
BEGIN:DAYLIGHT
TZOFFSETFROM:-0500
TZOFFSETTO:-0400
TZNAME:EDT
DTSTART:20220313T070000
END:DAYLIGHT
BEGIN:STANDARD
TZOFFSETFROM:-0400
TZOFFSETTO:-0500
TZNAME:EST
DTSTART:20221106T060000
END:STANDARD
END:VTIMEZONE
BEGIN:VEVENT
DTSTART;TZID=America/New_York:20221206T170000
DTEND;TZID=America/New_York:20221206T183000
DTSTAMP:20260424T182648
CREATED:20221018T171248Z
LAST-MODIFIED:20221206T160431Z
UID:10167-1670346000-1670351400@neocollegeprep.org
SUMMARY:High School Open House - CANCELLED
DESCRIPTION:This Event has been CANCELLED \n  \nYou’re invited to tour our campus\, meet our Principal and staff\, and find out what our high school has to offer. Learn more about our special programs\, ask questions\, and get help with the enrollment process. \nRSVP neocollegeprep.org/events \nReady to enroll? Be prepared with the following documents: \n\n Child’s Birth Certificate\n Proof of Residence \nParent ID (for primary\, custodial parent) \nImmunization Records \n\nFor more information about these documents\, please visit our Enrollment Resources page at: https://accelschools.com/enrollment-resources-ohio/
URL:https://neocollegeprep.org/event/high-school-open-house-2/
LOCATION:Northeast Ohio College Preparatory School\, 2357 Tremont Ave.\, Cleveland\, OH\, 44113\, United States
CATEGORIES:Calendar Only,Prospective Families, Events, Home
END:VEVENT
END:VCALENDAR