BEGIN:VCALENDAR
VERSION:2.0
PRODID:-//Northeast Ohio College Prep - ECPv5.16.4//NONSGML v1.0//EN
CALSCALE:GREGORIAN
METHOD:PUBLISH
X-WR-CALNAME:Northeast Ohio College Prep
X-ORIGINAL-URL:https://neocollegeprep.org
X-WR-CALDESC:Events for Northeast Ohio College Prep
BEGIN:VTIMEZONE
TZID:America/New_York
BEGIN:DAYLIGHT
TZOFFSETFROM:-0500
TZOFFSETTO:-0400
TZNAME:EDT
DTSTART:20210314T070000
END:DAYLIGHT
BEGIN:STANDARD
TZOFFSETFROM:-0400
TZOFFSETTO:-0500
TZNAME:EST
DTSTART:20211107T060000
END:STANDARD
END:VTIMEZONE
BEGIN:VEVENT
DTSTART;TZID=America/New_York:20210706T100000
DTEND;TZID=America/New_York:20210706T120000
DTSTAMP:20260424T202009
CREATED:20210616T145245Z
LAST-MODIFIED:20210617T155058Z
UID:7758-1625565600-1625572800@neocollegeprep.org
SUMMARY:FREE Summer Cheerleading Camp (Grades 7-9)
DESCRIPTION:Rising 7th\, 8th and 9th Graders are invited to a FREE cheerleading camp at Northeast Ohio College Preparatory School. During this three-day camp\, athletes will learn the basics of cheerleading including terminology\, skills\, types of stunts\, and the choreography of a routine performance! \nCheerleading Camp will run Tuesday\, Wednesday & Thursday July 6-8th from 10am – 12pm.Camp will really amp up on Thursday\, when cheerleaders perform with a live DJ during a scrimmage basketball game played by athletes from Basketball Camp. \nEnrollment at NEO College Prep is not required to sign up for camp\, but families interested in enrollment will have the opportunity to tour the campus and learn about the registration process. \nSign up today to reserve your free t-shirt! or call (216) 453-4552
URL:https://neocollegeprep.org/event/free-summer-cheerleading-camp-grades-7-9/2021-07-06/
LOCATION:NEO High School Campus\, 2357 Tremont Avenue\, Cleveland\, OH\, 44113\, United States
CATEGORIES:Calendar Only,Prospective Families, Events, Home
GEO:41.480326;-81.687007
X-APPLE-STRUCTURED-LOCATION;VALUE=URI;X-ADDRESS=NEO High School Campus 2357 Tremont Avenue Cleveland OH 44113 United States;X-APPLE-RADIUS=500;X-TITLE=2357 Tremont Avenue:geo:-81.687007,41.480326
END:VEVENT
END:VCALENDAR