BEGIN:VCALENDAR
VERSION:2.0
PRODID:-//Northeast Ohio College Prep - ECPv5.16.4//NONSGML v1.0//EN
CALSCALE:GREGORIAN
METHOD:PUBLISH
X-WR-CALNAME:Northeast Ohio College Prep
X-ORIGINAL-URL:https://neocollegeprep.org
X-WR-CALDESC:Events for Northeast Ohio College Prep
BEGIN:VTIMEZONE
TZID:America/New_York
BEGIN:DAYLIGHT
TZOFFSETFROM:-0500
TZOFFSETTO:-0400
TZNAME:EDT
DTSTART:20230312T070000
END:DAYLIGHT
BEGIN:STANDARD
TZOFFSETFROM:-0400
TZOFFSETTO:-0500
TZNAME:EST
DTSTART:20231105T060000
END:STANDARD
END:VTIMEZONE
BEGIN:VEVENT
DTSTART;TZID=America/New_York:20230705T090000
DTEND;TZID=America/New_York:20230705T120000
DTSTAMP:20260424T181153
CREATED:20230621T191353Z
LAST-MODIFIED:20230621T191353Z
UID:11567-1688547600-1688558400@neocollegeprep.org
SUMMARY:Free Summer Art Camp
DESCRIPTION:Join us for a FREE Summer Art Camp for grades 3-8! Our outdoor camp gives all new and returning students a chance to complete a fun Summer art piece! \nSign up and register now by emailing hmueller@neocollegeprep.org or by calling 216-453-4552
URL:https://neocollegeprep.org/event/free-summer-art-camp/2023-07-05/
CATEGORIES:Calendar Only,Prospective Families, Events, Home
END:VEVENT
END:VCALENDAR