BEGIN:VCALENDAR
VERSION:2.0
PRODID:-//Northeast Ohio College Prep - ECPv5.16.4//NONSGML v1.0//EN
CALSCALE:GREGORIAN
METHOD:PUBLISH
X-WR-CALNAME:Northeast Ohio College Prep
X-ORIGINAL-URL:https://neocollegeprep.org
X-WR-CALDESC:Events for Northeast Ohio College Prep
BEGIN:VTIMEZONE
TZID:America/New_York
BEGIN:DAYLIGHT
TZOFFSETFROM:-0500
TZOFFSETTO:-0400
TZNAME:EDT
DTSTART:20250309T070000
END:DAYLIGHT
BEGIN:STANDARD
TZOFFSETFROM:-0400
TZOFFSETTO:-0500
TZNAME:EST
DTSTART:20251102T060000
END:STANDARD
END:VTIMEZONE
BEGIN:VEVENT
DTSTART;TZID=America/New_York:20250717T170000
DTEND;TZID=America/New_York:20250717T190000
DTSTAMP:20260424T163430
CREATED:20250613T173316Z
LAST-MODIFIED:20250613T173316Z
UID:14187-1752771600-1752778800@neocollegeprep.org
SUMMARY:Family Movie Night
DESCRIPTION:Get ready for a blockbuster evening of snacks\, cinema\, and learning adventure! We’ll be showing a family-friendly movie on the big screen and providing popcorn and snacks. Please bring a blanket Families interested in enrollment will have the opportunity to tour our campus and learn more about the upcoming school year.  \nRSVP Today! neocollegeprep.org/events
URL:https://neocollegeprep.org/event/family-movie-night-3/
CATEGORIES:Calendar Only,Prospective Families, Events, Home
END:VEVENT
END:VCALENDAR