BEGIN:VCALENDAR
VERSION:2.0
PRODID:-//Northeast Ohio College Prep - ECPv5.16.4//NONSGML v1.0//EN
CALSCALE:GREGORIAN
METHOD:PUBLISH
X-WR-CALNAME:Northeast Ohio College Prep
X-ORIGINAL-URL:https://neocollegeprep.org
X-WR-CALDESC:Events for Northeast Ohio College Prep
BEGIN:VTIMEZONE
TZID:America/New_York
BEGIN:DAYLIGHT
TZOFFSETFROM:-0500
TZOFFSETTO:-0400
TZNAME:EDT
DTSTART:20240310T070000
END:DAYLIGHT
BEGIN:STANDARD
TZOFFSETFROM:-0400
TZOFFSETTO:-0500
TZNAME:EST
DTSTART:20241103T060000
END:STANDARD
END:VTIMEZONE
BEGIN:VEVENT
DTSTART;TZID=America/New_York:20240718T170000
DTEND;TZID=America/New_York:20240718T190000
DTSTAMP:20260424T145133
CREATED:20240620T142118Z
LAST-MODIFIED:20240620T142118Z
UID:13562-1721322000-1721329200@neocollegeprep.org
SUMMARY:Family Movie Night
DESCRIPTION:Get ready for a blockbuster evening of snacks\, cinema\, and learning adventure! We’ll be showing a family-friendly movie on the big screen and providing free snacks. Families interested in enrollment will have the opportunity to tour our campus and learn more about the upcoming school year.  \nRSVP Today! neocollegeprep.org/events
URL:https://neocollegeprep.org/event/family-movie-night-2/
LOCATION:NEO Lower Campus\, 2280 Professor Ave\, Cleveland\, OH\, 44113\, United States
CATEGORIES:Calendar Only,Prospective Families, Events, Home
END:VEVENT
END:VCALENDAR