BEGIN:VCALENDAR
VERSION:2.0
PRODID:-//Northeast Ohio College Prep - ECPv5.16.4//NONSGML v1.0//EN
CALSCALE:GREGORIAN
METHOD:PUBLISH
X-WR-CALNAME:Northeast Ohio College Prep
X-ORIGINAL-URL:https://neocollegeprep.org
X-WR-CALDESC:Events for Northeast Ohio College Prep
BEGIN:VTIMEZONE
TZID:America/New_York
BEGIN:DAYLIGHT
TZOFFSETFROM:-0500
TZOFFSETTO:-0400
TZNAME:EDT
DTSTART:20200308T070000
END:DAYLIGHT
BEGIN:STANDARD
TZOFFSETFROM:-0400
TZOFFSETTO:-0500
TZNAME:EST
DTSTART:20201101T060000
END:STANDARD
END:VTIMEZONE
BEGIN:VEVENT
DTSTART;TZID=America/New_York:20201001T153000
DTEND;TZID=America/New_York:20201001T170000
DTSTAMP:20260424T215514
CREATED:20200920T154738Z
LAST-MODIFIED:20200920T154738Z
UID:6211-1601566200-1601571600@neocollegeprep.org
SUMMARY:Fall Frenzy @ NEO College Prep
DESCRIPTION:Join us at Northeast Ohio College Preparatory School for a Fall Frenzy! Enjoy free pumpkins and Halloween treat bags! Learn more about our school\, meet staff\, and take a tour. This event is open to everyone so bring a friend!
URL:https://neocollegeprep.org/event/fall-frenzy-neo-college-prep/
LOCATION:NEO Lower Campus\, 2280 Professor Ave\, Cleveland\, OH\, 44113\, United States
CATEGORIES:Calendar Only,Prospective Families, Events, Home
END:VEVENT
END:VCALENDAR