BEGIN:VCALENDAR
VERSION:2.0
PRODID:-//Northeast Ohio College Prep - ECPv5.16.4//NONSGML v1.0//EN
CALSCALE:GREGORIAN
METHOD:PUBLISH
X-WR-CALNAME:Northeast Ohio College Prep
X-ORIGINAL-URL:https://neocollegeprep.org
X-WR-CALDESC:Events for Northeast Ohio College Prep
BEGIN:VTIMEZONE
TZID:America/New_York
BEGIN:DAYLIGHT
TZOFFSETFROM:-0500
TZOFFSETTO:-0400
TZNAME:EDT
DTSTART:20220313T070000
END:DAYLIGHT
BEGIN:STANDARD
TZOFFSETFROM:-0400
TZOFFSETTO:-0500
TZNAME:EST
DTSTART:20221106T060000
END:STANDARD
END:VTIMEZONE
BEGIN:VEVENT
DTSTART;TZID=America/New_York:20221010T080000
DTEND;TZID=America/New_York:20221014T170000
DTSTAMP:20260424T233249
CREATED:20220718T181059Z
LAST-MODIFIED:20220718T181059Z
UID:9515-1665388800-1665766800@neocollegeprep.org
SUMMARY:Fall Break
DESCRIPTION:No school for students and teachers
URL:https://neocollegeprep.org/event/fall-break-2/
LOCATION:Northeast Ohio College Preparatory School\, 2357 Tremont Ave.\, Cleveland\, OH\, 44113\, United States
CATEGORIES:Calendar Only
END:VEVENT
END:VCALENDAR