BEGIN:VCALENDAR
VERSION:2.0
PRODID:-//Northeast Ohio College Prep - ECPv5.16.4//NONSGML v1.0//EN
CALSCALE:GREGORIAN
METHOD:PUBLISH
X-WR-CALNAME:Northeast Ohio College Prep
X-ORIGINAL-URL:https://neocollegeprep.org
X-WR-CALDESC:Events for Northeast Ohio College Prep
BEGIN:VTIMEZONE
TZID:America/New_York
BEGIN:DAYLIGHT
TZOFFSETFROM:-0500
TZOFFSETTO:-0400
TZNAME:EDT
DTSTART:20250309T070000
END:DAYLIGHT
BEGIN:STANDARD
TZOFFSETFROM:-0400
TZOFFSETTO:-0500
TZNAME:EST
DTSTART:20251102T060000
END:STANDARD
END:VTIMEZONE
BEGIN:VEVENT
DTSTART;TZID=America/New_York:20250509T154500
DTEND;TZID=America/New_York:20250509T154500
DTSTAMP:20260424T233427
CREATED:20240730T175238Z
LAST-MODIFIED:20240730T175238Z
UID:13784-1746805500-1746805500@neocollegeprep.org
SUMMARY:Board Meeting
DESCRIPTION:
URL:https://neocollegeprep.org/event/board-meeting-43/
LOCATION:University of Cleveland Preparatory School\, 1906 E. 40th Street\, Cleveland\, OH\, 44103\, United States
CATEGORIES:Calendar Only,School Board
END:VEVENT
END:VCALENDAR