BEGIN:VCALENDAR
VERSION:2.0
PRODID:-//Northeast Ohio College Prep - ECPv5.16.4//NONSGML v1.0//EN
CALSCALE:GREGORIAN
METHOD:PUBLISH
X-WR-CALNAME:Northeast Ohio College Prep
X-ORIGINAL-URL:https://neocollegeprep.org
X-WR-CALDESC:Events for Northeast Ohio College Prep
BEGIN:VTIMEZONE
TZID:America/New_York
BEGIN:DAYLIGHT
TZOFFSETFROM:-0500
TZOFFSETTO:-0400
TZNAME:EDT
DTSTART:20230312T070000
END:DAYLIGHT
BEGIN:STANDARD
TZOFFSETFROM:-0400
TZOFFSETTO:-0500
TZNAME:EST
DTSTART:20231105T060000
END:STANDARD
END:VTIMEZONE
BEGIN:VEVENT
DTSTART;TZID=America/New_York:20230908T153000
DTEND;TZID=America/New_York:20230908T153000
DTSTAMP:20260424T180826
CREATED:20230815T180741Z
LAST-MODIFIED:20230815T180741Z
UID:11963-1694187000-1694187000@neocollegeprep.org
SUMMARY:Board Meeting
DESCRIPTION:
URL:https://neocollegeprep.org/event/board-meeting-27/
LOCATION:Cleveland College Preparatory School\, 4906 Fleet Avenue\, Cleveland\, OH\, 44105\, United States
CATEGORIES:Calendar Only,School Board
END:VEVENT
END:VCALENDAR