BEGIN:VCALENDAR
VERSION:2.0
PRODID:-//Northeast Ohio College Prep - ECPv5.16.4//NONSGML v1.0//EN
CALSCALE:GREGORIAN
METHOD:PUBLISH
X-WR-CALNAME:Northeast Ohio College Prep
X-ORIGINAL-URL:https://neocollegeprep.org
X-WR-CALDESC:Events for Northeast Ohio College Prep
BEGIN:VTIMEZONE
TZID:America/New_York
BEGIN:DAYLIGHT
TZOFFSETFROM:-0500
TZOFFSETTO:-0400
TZNAME:EDT
DTSTART:20210314T070000
END:DAYLIGHT
BEGIN:STANDARD
TZOFFSETFROM:-0400
TZOFFSETTO:-0500
TZNAME:EST
DTSTART:20211107T060000
END:STANDARD
END:VTIMEZONE
BEGIN:VEVENT
DTSTART;TZID=America/New_York:20210312T153000
DTEND;TZID=America/New_York:20210312T153000
DTSTAMP:20260424T180743
CREATED:20200731T160916Z
LAST-MODIFIED:20201204T172939Z
UID:5584-1615563000-1615563000@neocollegeprep.org
SUMMARY:Board Meeting
DESCRIPTION:Join Zoom Meeting: \nhttps://us02web.zoom.us/j/3121512398 \nMeeting ID: 312 151 2398  \nPhone: 1-312-626-6799
URL:https://neocollegeprep.org/event/board-meeting-2/
LOCATION:Virtual
CATEGORIES:Calendar Only,School Board
END:VEVENT
END:VCALENDAR