BEGIN:VCALENDAR
VERSION:2.0
PRODID:-//Northeast Ohio College Prep - ECPv5.16.4//NONSGML v1.0//EN
CALSCALE:GREGORIAN
METHOD:PUBLISH
X-WR-CALNAME:Northeast Ohio College Prep
X-ORIGINAL-URL:https://neocollegeprep.org
X-WR-CALDESC:Events for Northeast Ohio College Prep
BEGIN:VTIMEZONE
TZID:America/New_York
BEGIN:DAYLIGHT
TZOFFSETFROM:-0500
TZOFFSETTO:-0400
TZNAME:EDT
DTSTART:20220313T070000
END:DAYLIGHT
BEGIN:STANDARD
TZOFFSETFROM:-0400
TZOFFSETTO:-0500
TZNAME:EST
DTSTART:20221106T060000
END:STANDARD
END:VTIMEZONE
BEGIN:VEVENT
DTSTART;TZID=America/New_York:20220812T153000
DTEND;TZID=America/New_York:20220812T153000
DTSTAMP:20260424T233426
CREATED:20220729T170535Z
LAST-MODIFIED:20220729T170535Z
UID:9707-1660318200-1660318200@neocollegeprep.org
SUMMARY:Board Meeting
DESCRIPTION:
URL:https://neocollegeprep.org/event/board-meeting-16/
LOCATION:Board Meeting Conference Room\, 1 Summit Park Dr.\, Independence\, OH\, 44131\, United States
CATEGORIES:Calendar Only,School Board
END:VEVENT
END:VCALENDAR