BEGIN:VCALENDAR
VERSION:2.0
PRODID:-//Northeast Ohio College Prep - ECPv5.16.4//NONSGML v1.0//EN
CALSCALE:GREGORIAN
METHOD:PUBLISH
X-WR-CALNAME:Northeast Ohio College Prep
X-ORIGINAL-URL:https://neocollegeprep.org
X-WR-CALDESC:Events for Northeast Ohio College Prep
BEGIN:VTIMEZONE
TZID:America/New_York
BEGIN:DAYLIGHT
TZOFFSETFROM:-0500
TZOFFSETTO:-0400
TZNAME:EDT
DTSTART:20220313T070000
END:DAYLIGHT
BEGIN:STANDARD
TZOFFSETFROM:-0400
TZOFFSETTO:-0500
TZNAME:EST
DTSTART:20221106T060000
END:STANDARD
END:VTIMEZONE
BEGIN:VEVENT
DTSTART;TZID=America/New_York:20220802T160000
DTEND;TZID=America/New_York:20220802T180000
DTSTAMP:20260424T200035
CREATED:20220720T171634Z
LAST-MODIFIED:20220720T172116Z
UID:9647-1659456000-1659463200@neocollegeprep.org
SUMMARY:Back to School Uniform Giveaway
DESCRIPTION:Start the school year with a new uniform! Drop by NEO for some fun with a Bounce House and Bounce Slide and pick up your FREE unform. We can’t wait to see everyone looking their best on the first day of school! \nRSVP Today: neocollegeprep.org/events \nReady to enroll? Be prepared with the following documents: \n\nChild’s Birth Certificate \nProof of Residence\n Parent ID (for primary\, custodial parent) \nImmunization Records\n\n For more information about these documents\, please visit our Enrollment Resources page at: https://accelschools.com/enrollment-resources-ohio/
URL:https://neocollegeprep.org/event/back-school-uniform-giveaway/
LOCATION:NEO Lower Campus\, 2280 Professor Ave\, Cleveland\, OH\, 44113\, United States
CATEGORIES:Calendar Only,Prospective Families, Events, Home
END:VEVENT
END:VCALENDAR