BEGIN:VCALENDAR
VERSION:2.0
PRODID:-//Northeast Ohio College Prep - ECPv5.16.4//NONSGML v1.0//EN
CALSCALE:GREGORIAN
METHOD:PUBLISH
X-WR-CALNAME:Northeast Ohio College Prep
X-ORIGINAL-URL:https://neocollegeprep.org
X-WR-CALDESC:Events for Northeast Ohio College Prep
BEGIN:VTIMEZONE
TZID:America/New_York
BEGIN:DAYLIGHT
TZOFFSETFROM:-0500
TZOFFSETTO:-0400
TZNAME:EDT
DTSTART:20200308T070000
END:DAYLIGHT
BEGIN:STANDARD
TZOFFSETFROM:-0400
TZOFFSETTO:-0500
TZNAME:EST
DTSTART:20201101T060000
END:STANDARD
END:VTIMEZONE
BEGIN:VEVENT
DTSTART;TZID=America/New_York:20200731T160000
DTEND;TZID=America/New_York:20200731T180000
DTSTAMP:20260424T195928
CREATED:20200715T150534Z
LAST-MODIFIED:20200715T150534Z
UID:5302-1596211200-1596218400@neocollegeprep.org
SUMMARY:Back to School Summer Jam
DESCRIPTION:Join us at Northeast Ohio College Preparatory School for a Back to School Summer Jam! Enjoy live music from Blu Pi Band and Findland Da Great & enter our raffle for a chance to win prizes! We will be handing out free school supplies to families! Meet our staff & learn more about our school and how to enroll for the 20-21 school year! Social distancing guidelines will be followed. We hope you see you there! \nFamilies interested in enrollment will have the opportunity to meet with school staff to learn more about the schools and the enrollment process. \nCome prepared by bringing: \nChild’s Birth Certificate \nProof of Residence \nParent ID (for primary\, custodial parent) \nImmunization Records \nFor more information about these documents\, please visit our Enrollment Resources page here
URL:https://neocollegeprep.org/event/back-school-summer-jam/
CATEGORIES:Calendar Only,Prospective Families, Events, Home
END:VEVENT
END:VCALENDAR