BEGIN:VCALENDAR
VERSION:2.0
PRODID:-//Northeast Ohio College Prep - ECPv5.16.4//NONSGML v1.0//EN
CALSCALE:GREGORIAN
METHOD:PUBLISH
X-WR-CALNAME:Northeast Ohio College Prep
X-ORIGINAL-URL:https://neocollegeprep.org
X-WR-CALDESC:Events for Northeast Ohio College Prep
BEGIN:VTIMEZONE
TZID:America/New_York
BEGIN:DAYLIGHT
TZOFFSETFROM:-0500
TZOFFSETTO:-0400
TZNAME:EDT
DTSTART:20230312T070000
END:DAYLIGHT
BEGIN:STANDARD
TZOFFSETFROM:-0400
TZOFFSETTO:-0500
TZNAME:EST
DTSTART:20231105T060000
END:STANDARD
END:VTIMEZONE
BEGIN:VEVENT
DTSTART;TZID=America/New_York:20230808T160000
DTEND;TZID=America/New_York:20230808T180000
DTSTAMP:20260424T162935
CREATED:20230628T184445Z
LAST-MODIFIED:20230628T184445Z
UID:11582-1691510400-1691517600@neocollegeprep.org
SUMMARY:Back to School Bash
DESCRIPTION:The school year is about to begin & it’s not too late to enroll! Join us to celebrate the back to school season and prepare for the year ahead. Come to our BTS Bash to meet our teachers and a uniform giveaway. Refreshments will be served. Start or finalize your enrollment paperwork with the help of our team.  \nRSVP Today! neocollegeprep.org/events
URL:https://neocollegeprep.org/event/back-school-bash/
LOCATION:Northeast Ohio College Preparatory School\, 2357 Tremont Ave.\, Cleveland\, OH\, 44113\, United States
CATEGORIES:Calendar Only,Prospective Families, Events, Home
END:VEVENT
END:VCALENDAR