BEGIN:VCALENDAR
VERSION:2.0
PRODID:-//Northeast Ohio College Prep - ECPv5.16.4//NONSGML v1.0//EN
CALSCALE:GREGORIAN
METHOD:PUBLISH
X-WR-CALNAME:Northeast Ohio College Prep
X-ORIGINAL-URL:https://neocollegeprep.org
X-WR-CALDESC:Events for Northeast Ohio College Prep
BEGIN:VTIMEZONE
TZID:America/New_York
BEGIN:DAYLIGHT
TZOFFSETFROM:-0500
TZOFFSETTO:-0400
TZNAME:EDT
DTSTART:20250309T070000
END:DAYLIGHT
BEGIN:STANDARD
TZOFFSETFROM:-0400
TZOFFSETTO:-0500
TZNAME:EST
DTSTART:20251102T060000
END:STANDARD
END:VTIMEZONE
BEGIN:VEVENT
DTSTART;TZID=America/New_York:20250319T120000
DTEND;TZID=America/New_York:20250319T160000
DTSTAMP:20260424T163158
CREATED:20250303T150046Z
LAST-MODIFIED:20250303T150046Z
UID:14118-1742385600-1742400000@neocollegeprep.org
SUMMARY:9th Grade For A Day!
DESCRIPTION:NEO is excited to welcome prospective 9th graders to our 1st annual Shadow Day! This event provides an opportunity for students to experience a day in the life of a 9th grade student. Children who attend can receive school swag\, enjoy refreshments\, and learn more about what it is like to be a 9th Grader at NEO!  \nRSVP today: neocollegeprep.org/events
URL:https://neocollegeprep.org/event/9th-grade-day/
LOCATION:NEO High School Campus\, 2357 Tremont Avenue\, Cleveland\, OH\, 44113\, United States
CATEGORIES:Calendar Only,Prospective Families, Events, Home
GEO:41.480326;-81.687007
X-APPLE-STRUCTURED-LOCATION;VALUE=URI;X-ADDRESS=NEO High School Campus 2357 Tremont Avenue Cleveland OH 44113 United States;X-APPLE-RADIUS=500;X-TITLE=2357 Tremont Avenue:geo:-81.687007,41.480326
END:VEVENT
END:VCALENDAR